BEGIN:VCALENDAR
VERSION:2.0
PRODID:-//SirsiDynix - ECPv6.14.2//NONSGML v1.0//EN
CALSCALE:GREGORIAN
METHOD:PUBLISH
X-WR-CALNAME:SirsiDynix
X-ORIGINAL-URL:https://www.sirsidynix.com
X-WR-CALDESC:Events for SirsiDynix
REFRESH-INTERVAL;VALUE=DURATION:PT1H
X-Robots-Tag:noindex
X-PUBLISHED-TTL:PT1H
BEGIN:VTIMEZONE
TZID:America/New_York
BEGIN:DAYLIGHT
TZOFFSETFROM:-0500
TZOFFSETTO:-0400
TZNAME:EDT
DTSTART:20160313T070000
END:DAYLIGHT
BEGIN:STANDARD
TZOFFSETFROM:-0400
TZOFFSETTO:-0500
TZNAME:EST
DTSTART:20161106T060000
END:STANDARD
END:VTIMEZONE
BEGIN:VEVENT
DTSTART;TZID=America/New_York:20160901T080000
DTEND;TZID=America/New_York:20160901T170000
DTSTAMP:20260421T053920
CREATED:20160808T160900Z
LAST-MODIFIED:20240729T161051Z
UID:10002168-1472716800-1472749200@www.sirsidynix.com
SUMMARY:Symphony Ninja Series: Original Cataloging in Symphony
DESCRIPTION:Is your cataloging a fierce and mighty foe? Conquer your collections with ease and agility.\n\n\n\nHone your skills to become a Symphony Ninja! Join Symphony Ninja Master Alex Haig for this free 15-minute webinar. Master Haig will instruct you in the agile ways of Symphony so you can efficiently knock-out your workflows. . \n\n\n\nIn session #7\, Symphony Ninja Series: Original Cataloging in Symphony you will learn: \n\n\n\n\nCreating a new title\n\n\n\nCataloging references\n\n\n\nWizard properties\n\n\n\n\nJoin us for Symphony Ninja Series: Original Cataloging in Symphony to learn more about your Symphony system. Delve into the dexterity of Symphony with Alex Haig and fear no functions. \n\n\n\nAbout the Series \n\n\n\nThe Symphony Ninja series is a series of ten webinars led by Symphony Ninja Masters. These webinars teach tips for getting the most out of your Symphony system. Attend all ten sessions\, live or on-demand\, to earn your Symphony Ninja Certificate and the title of Symphony Ninja!
URL:https://www.sirsidynix.com/event/symphony-ninja-series-original-cataloging-in-symphony/
CATEGORIES:Webinar
END:VEVENT
END:VCALENDAR