BEGIN:VCALENDAR
VERSION:2.0
PRODID:-//SirsiDynix - ECPv6.14.2//NONSGML v1.0//EN
CALSCALE:GREGORIAN
METHOD:PUBLISH
X-ORIGINAL-URL:https://www.sirsidynix.com
X-WR-CALDESC:Events for SirsiDynix
REFRESH-INTERVAL;VALUE=DURATION:PT1H
X-Robots-Tag:noindex
X-PUBLISHED-TTL:PT1H
BEGIN:VTIMEZONE
TZID:America/New_York
BEGIN:DAYLIGHT
TZOFFSETFROM:-0500
TZOFFSETTO:-0400
TZNAME:EDT
DTSTART:20170312T070000
END:DAYLIGHT
BEGIN:STANDARD
TZOFFSETFROM:-0400
TZOFFSETTO:-0500
TZNAME:EST
DTSTART:20171105T060000
END:STANDARD
END:VTIMEZONE
BEGIN:VEVENT
DTSTART;TZID=America/New_York:20170125T080000
DTEND;TZID=America/New_York:20170125T170000
DTSTAMP:20260420T231034
CREATED:20170101T160800Z
LAST-MODIFIED:20240613T144251Z
UID:10001701-1485331200-1485363600@www.sirsidynix.com
SUMMARY:Meet BLUEcloud eRM
DESCRIPTION:Electronic resources are a crucial part of your collection. Manage your collection with the new solution built to do keep you ordered and automated. \n\n\n\nSirsiDynix is excited to release BLUEcloud eResource Management (eRM) to our libraries. BLUEcloud eRM is a solution designed to help you effortlessly manage the entire life cycle of your electronic subscriptions\, from trial and acquisition to licensing and implementation. Join Product Manager Carla Clark to learn all about the functionality of this new eResource management tool. \n\n\n\nIn this webinar\, Carla will discuss and demo different features and functionality\, including \n\n\n\nWorkflows to alert staff members when it is their turn to complete some part of the processBatch import resources from content providersUpload licenses and create expressions for licensing termsJoin SirsiDynix and Product Manager Carla Clark to learn more about BLUEcloud eRM in this free 30-minute webinar and following Q&A session.
URL:https://www.sirsidynix.com/event/meet-bluecloud-erm/
CATEGORIES:Webinar
END:VEVENT
END:VCALENDAR