BEGIN:VCALENDAR
VERSION:2.0
PRODID:-//SirsiDynix - ECPv6.14.2//NONSGML v1.0//EN
CALSCALE:GREGORIAN
METHOD:PUBLISH
X-WR-CALNAME:SirsiDynix
X-ORIGINAL-URL:https://www.sirsidynix.com
X-WR-CALDESC:Events for SirsiDynix
REFRESH-INTERVAL;VALUE=DURATION:PT1H
X-Robots-Tag:noindex
X-PUBLISHED-TTL:PT1H
BEGIN:VTIMEZONE
TZID:America/New_York
BEGIN:DAYLIGHT
TZOFFSETFROM:-0500
TZOFFSETTO:-0400
TZNAME:EDT
DTSTART:20170312T070000
END:DAYLIGHT
BEGIN:STANDARD
TZOFFSETFROM:-0400
TZOFFSETTO:-0500
TZNAME:EST
DTSTART:20171105T060000
END:STANDARD
END:VTIMEZONE
BEGIN:VEVENT
DTSTART;TZID=America/New_York:20170808T080000
DTEND;TZID=America/New_York:20170808T170000
DTSTAMP:20260420T072807
CREATED:20170729T152800Z
LAST-MODIFIED:20240729T153016Z
UID:10002154-1502179200-1502211600@www.sirsidynix.com
SUMMARY:Horizon Hero: Family Card
DESCRIPTION:Your Horizon powers help you keep families together. Family Card is here to spread the love.\n\n\n\nBe super on your Horizon system! Join Superhero Ken Bonney for this free 15-minute webinar. Ken will teach you all the special powers you need to save the day at your library. \n\n\n\nIn this session of Horizon Hero\, Ken will teach you how to about the perks of family cards. \n\n\n\nHorizon is here to be your trusty sidekick. Join us for Family Card to learn more about your Horizon system and how you can be a Hero at your library. \n\n\n\nAbout the Series \n\n\n\nThe Horizon Hero series is a series of eight webinars led by Horizon Superhero Ken Bonney. In these webinars\, Ken teaches tips for getting the most out of your Horizon system. Attend all ten sessions\, live or on-demand\, to earn your Horizon Hero Certificate and the title of Horizon Hero!
URL:https://www.sirsidynix.com/event/horizon-hero-family-card/
CATEGORIES:Webinar
END:VEVENT
END:VCALENDAR