BEGIN:VCALENDAR
VERSION:2.0
PRODID:-//SirsiDynix - ECPv6.14.2//NONSGML v1.0//EN
CALSCALE:GREGORIAN
METHOD:PUBLISH
X-WR-CALNAME:SirsiDynix
X-ORIGINAL-URL:https://www.sirsidynix.com
X-WR-CALDESC:Events for SirsiDynix
REFRESH-INTERVAL;VALUE=DURATION:PT1H
X-Robots-Tag:noindex
X-PUBLISHED-TTL:PT1H
BEGIN:VTIMEZONE
TZID:America/New_York
BEGIN:DAYLIGHT
TZOFFSETFROM:-0500
TZOFFSETTO:-0400
TZNAME:EDT
DTSTART:20170312T070000
END:DAYLIGHT
BEGIN:STANDARD
TZOFFSETFROM:-0400
TZOFFSETTO:-0500
TZNAME:EST
DTSTART:20171105T060000
END:STANDARD
END:VTIMEZONE
BEGIN:VEVENT
DTSTART;TZID=America/New_York:20170124T130000
DTEND;TZID=America/New_York:20170124T133000
DTSTAMP:20260421T014036
CREATED:20160729T151700Z
LAST-MODIFIED:20240729T152033Z
UID:10002150-1485262800-1485264600@www.sirsidynix.com
SUMMARY:Horizon Hero Series: Collection Codes and iStats
DESCRIPTION:Are statistics keeping you down?Join Ken to strengthen your powers\, crack the codes\, and conquer your statistics!\n\n\n\nBe super on your Horizon system! Join Superhero Ken Bonney for this free 15-minute webinar. Ken will teach you all the special powers you need to save the day at your library. \n\n\n\nIn this his first session of Horizon Hero\, Ken will teach you how collection codes and iStats work together to produce efficient statistics. \n\n\n\nHorizon is here to be your trusty sidekick. Join us for Collection Codes and iStats to learn more about your Horizon system and how you can be a Hero at your library. \n\n\n\nAbout the Series \n\n\n\nThe Horizon Hero series is a series of eight webinars led by Horizon Superhero Ken Bonney. In these webinars\, Ken teaches tips for getting the most out of your Horizon system. Attend all ten sessions\, live or on-demand\, to earn your Horizon Hero Certificate and the title of Horizon Hero!
URL:https://www.sirsidynix.com/event/horizon-hero-series-collection-codes-and-istats/
CATEGORIES:Webinar
END:VEVENT
BEGIN:VEVENT
DTSTART;TZID=America/New_York:20170125T080000
DTEND;TZID=America/New_York:20170125T170000
DTSTAMP:20260421T014036
CREATED:20170101T160800Z
LAST-MODIFIED:20240613T144251Z
UID:10001701-1485331200-1485363600@www.sirsidynix.com
SUMMARY:Meet BLUEcloud eRM
DESCRIPTION:Electronic resources are a crucial part of your collection. Manage your collection with the new solution built to do keep you ordered and automated. \n\n\n\nSirsiDynix is excited to release BLUEcloud eResource Management (eRM) to our libraries. BLUEcloud eRM is a solution designed to help you effortlessly manage the entire life cycle of your electronic subscriptions\, from trial and acquisition to licensing and implementation. Join Product Manager Carla Clark to learn all about the functionality of this new eResource management tool. \n\n\n\nIn this webinar\, Carla will discuss and demo different features and functionality\, including \n\n\n\nWorkflows to alert staff members when it is their turn to complete some part of the processBatch import resources from content providersUpload licenses and create expressions for licensing termsJoin SirsiDynix and Product Manager Carla Clark to learn more about BLUEcloud eRM in this free 30-minute webinar and following Q&A session.
URL:https://www.sirsidynix.com/event/meet-bluecloud-erm/
CATEGORIES:Webinar
END:VEVENT
BEGIN:VEVENT
DTSTART;TZID=America/New_York:20170126T130000
DTEND;TZID=America/New_York:20170126T133000
DTSTAMP:20260421T014036
CREATED:20160925T225700Z
LAST-MODIFIED:20240725T230049Z
UID:10002115-1485435600-1485437400@www.sirsidynix.com
SUMMARY:Symphony Hero Series: Make the Most of Symphony Circulation
DESCRIPTION:Sometimes circulation comes at you like a freight train. No need to stop the momentum\, when you’ve got the powers to keep up!\n\n\n\nBe super on your Symphony system! Join Superhero SirsiDynix trainer Katie Lusk for this free 15-minute webinar. Katie will teach you all the special powers you need to save the day at your library. \n\n\n\nThis #1 session of Symphony Hero will teach you to take full advantage of your Make the Most of Symphony Circulation. Learn about \n\n\n\n\nGlobal configuration for circulation\n\n\n\nReceipt options\n\n\n\nProperties of the checkout wizard\n\n\n\n\nSymphony is here to be your trusty sidekick. Join us for Make the Most of Symphony Circulation to learn more about your Symphony system and how you can be a Hero at your library. \n\n\n\nAbout the Series \n\n\n\nThe Symphony Hero series is a series of ten webinar led by SirsiDynix Superhero trainers. In these webinars\, SD trainers teach tips for getting the most out of your Symphony system. Attend all ten sessions\, live or on-demand\, to earn your Symphony Hero Certificate and the title of Symphony Hero!
URL:https://www.sirsidynix.com/event/symphony-hero-series-make-the-most-of-symphony-circulation/
CATEGORIES:Webinar
END:VEVENT
BEGIN:VEVENT
DTSTART;TZID=America/New_York:20170223T130000
DTEND;TZID=America/New_York:20170223T133000
DTSTAMP:20260421T014036
CREATED:20161126T000200Z
LAST-MODIFIED:20240725T230353Z
UID:10002116-1487854800-1487856600@www.sirsidynix.com
SUMMARY:Symphony Hero: Bibliographic Lists
DESCRIPTION:You protect a multitudinous collection. Find what you need and bring order to your items.\n\n\n\nBe super on your Symphony system! Join Superhero SirsiDynix trainer Kat Stephens for this free 15-minute webinar. Kat will teach you all the special powers you need to save the day at your library. \n\n\n\nThis second session of Symphony Hero will teach you to take full advantage of your Bibliographic Lists. Learn about \n\n\n\n\nPrinted arrangement in Print Item output\n\n\n\nOutput format\n\n\n\n\nSymphony is here to be your trusty sidekick. Join us for Bibliographic Lists to learn more about your Symphony system and how you can be a Hero at your library. \n\n\n\nAbout the Series \n\n\n\nThe Symphony Hero series is a series of ten webinar led by SirsiDynix Superhero trainers. In these webinars\, SD trainers teach tips for getting the most out of your Symphony system. Attend all ten sessions\, live or on-demand\, to earn your Symphony Hero Certificate and the title of Symphony Hero!
URL:https://www.sirsidynix.com/event/symphony-hero-bibliographic-lists/
CATEGORIES:Webinar
END:VEVENT
BEGIN:VEVENT
DTSTART;TZID=America/New_York:20170321T130000
DTEND;TZID=America/New_York:20170321T133000
DTSTAMP:20260421T014036
CREATED:20161129T162000Z
LAST-MODIFIED:20240729T152305Z
UID:10002151-1490101200-1490103000@www.sirsidynix.com
SUMMARY:Horizon Hero: Floating Collections
DESCRIPTION:Do you need superpowers to meet all the demands of your library? You’ve got a new force in your favor: floating!\n\n\n\nBe super on your Horizon system! Join Superhero Ken Bonney for this free 15-minute webinar. Ken will teach you all the special powers you need to save the day at your library. \n\n\n\nIn this session of Horizon Hero\, Ken will teach you how collection codes and iStats work together to produce efficient statistics. \n\n\n\nHorizon is here to be your trusty sidekick. Join us for Collection Codes and iStats to learn more about your Horizon system and how you can be a Hero at your library. \n\n\n\nAbout the Series \n\n\n\nThe Horizon Hero series is a series of eight webinars led by Horizon Superhero Ken Bonney. In these webinars\, Ken teaches tips for getting the most out of your Horizon system. Attend all ten sessions\, live or on-demand\, to earn your Horizon Hero Certificate and the title of Horizon Hero!
URL:https://www.sirsidynix.com/event/horizon-hero-floating-collections/
CATEGORIES:Webinar
END:VEVENT
BEGIN:VEVENT
DTSTART;TZID=America/New_York:20170323T130000
DTEND;TZID=America/New_York:20170323T133000
DTSTAMP:20260421T014036
CREATED:20170104T000400Z
LAST-MODIFIED:20240725T230620Z
UID:10002117-1490274000-1490275800@www.sirsidynix.com
SUMMARY:Symphony Hero: SmartPort Cataloging
DESCRIPTION:End the battle between process and product with your trusty sidekick SmartPort! \n\n\n\nBe super on your Symphony system! Join Superhero SirsiDynix trainer Sarah Murphy for this free 15-minute webinar. Sarah will teach you all the special powers you need to save the day at your library. \n\n\n\nThis third session of Symphony Hero will teach you to take full advantage of your SmartPort Cataloging. Learn about \n\n\n\n\nGeneral overview of the SmartPort process\n\n\n\nLocating information for new Z39.50 connections\n\n\n\nConfiguring new SmartPort connections\n\n\n\nHelpful documents for more information\n\n\n\n\nSymphony is here to be your trusty sidekick. Join us for SmartPort Cataloging to learn more about your Symphony system and how you can be a Hero at your library. \n\n\n\nAbout the Series \n\n\n\nThe Symphony Hero series is a series of ten webinar led by SirsiDynix Superhero trainers. In these webinars\, SD trainers teach tips for getting the most out of your Symphony system. Attend all ten sessions\, live or on-demand\, to earn your Symphony Hero Certificate and the title of Symphony Hero!
URL:https://www.sirsidynix.com/event/symphony-hero-smartport-cataloging/
CATEGORIES:Webinar
END:VEVENT
BEGIN:VEVENT
DTSTART;TZID=America/New_York:20170418T130000
DTEND;TZID=America/New_York:20170418T132000
DTSTAMP:20260421T014036
CREATED:20170206T000700Z
LAST-MODIFIED:20240725T230943Z
UID:10002118-1492520400-1492521600@www.sirsidynix.com
SUMMARY:Symphony Hero: Maintenance Tips
DESCRIPTION:Sometimes keeping tidy is the biggest battle of them all\n\n\n\nBe super on your Symphony system! Join Superhero SirsiDynix trainer Alex Haig for this free 15-minute webinar. Alex will teach you all the special powers you need to save the day at your library. \n\n\n\nThis fourth session of Symphony Hero will teach you to take full advantage of your Maintenance Tips . Learn about \n\n\n\n\nHow to clean up your MARC import\n\n\n\nUtility wizards\n\n\n\nRemoving finished reports\n\n\n\n\nSymphony is here to be your trusty sidekick. Join us for Maintenance Tips to learn more about your Symphony system and how you can be a Hero at your library. \n\n\n\nAbout the Series \n\n\n\nThe Symphony Hero series is a series of ten webinar led by SirsiDynix Superhero trainers. In these webinars\, SD trainers teach tips for getting the most out of your Symphony system. Attend all ten sessions\, live or on-demand\, to earn your Symphony Hero Certificate and the title of Symphony Hero!
URL:https://www.sirsidynix.com/event/symphony-hero-maintenance-tips/
CATEGORIES:Webinar
END:VEVENT
BEGIN:VEVENT
DTSTART;TZID=America/New_York:20170425T010000
DTEND;TZID=America/New_York:20170425T133000
DTSTAMP:20260421T014036
CREATED:20170129T162300Z
LAST-MODIFIED:20240729T152530Z
UID:10002152-1493082000-1493127000@www.sirsidynix.com
SUMMARY:Horizon Hero: Security Overview
DESCRIPTION:Keeping your library safe is an important task. Know the features that help you protect.\n\n\n\nBe super on your Horizon system! Join Superhero Ken Bonney for this free 15-minute webinar. Ken will teach you all the special powers you need to save the day at your library. \n\n\n\nIn this his first session of Horizon Hero\, Ken will teach you about the security features of Horizon and what you can access in your ILS. \n\n\n\nHorizon is here to be your trusty sidekick. Join us for Security Overview to learn more about your Horizon system and how you can be a Hero at your library. \n\n\n\nAbout the Series \n\n\n\nThe Horizon Hero series is a series of eight webinars led by Horizon Superhero Ken Bonney. In these webinars\, Ken teaches tips for getting the most out of your Horizon system. Attend all ten sessions\, live or on-demand\, to earn your Horizon Hero Certificate and the title of Horizon Hero!
URL:https://www.sirsidynix.com/event/horizon-hero-security-overview/
CATEGORIES:Webinar
END:VEVENT
END:VCALENDAR