BEGIN:VCALENDAR
VERSION:2.0
PRODID:-//SirsiDynix - ECPv6.14.2//NONSGML v1.0//EN
CALSCALE:GREGORIAN
METHOD:PUBLISH
X-WR-CALNAME:SirsiDynix
X-ORIGINAL-URL:https://www.sirsidynix.com
X-WR-CALDESC:Events for SirsiDynix
REFRESH-INTERVAL;VALUE=DURATION:PT1H
X-Robots-Tag:noindex
X-PUBLISHED-TTL:PT1H
BEGIN:VTIMEZONE
TZID:America/New_York
BEGIN:DAYLIGHT
TZOFFSETFROM:-0500
TZOFFSETTO:-0400
TZNAME:EDT
DTSTART:20160313T070000
END:DAYLIGHT
BEGIN:STANDARD
TZOFFSETFROM:-0400
TZOFFSETTO:-0500
TZNAME:EST
DTSTART:20161106T060000
END:STANDARD
END:VTIMEZONE
BEGIN:VEVENT
DTSTART;TZID=America/New_York:20160602T080000
DTEND;TZID=America/New_York:20160602T170000
DTSTAMP:20260421T124431
CREATED:20160729T155300Z
LAST-MODIFIED:20240729T155551Z
UID:10002163-1464854400-1464886800@www.sirsidynix.com
SUMMARY:Symphony Ninja Series: Display Holds in Symphony
DESCRIPTION:Every ninja warrior can use an ally. Learn how to use holds\, and let Symphony have your back.\n\n\n\nHone your skills to become a Symphony Ninja! Join Symphony Ninja Master Katie Lusk for this free 15-minute webinar. Master Lusk will instruct you in the agile ways of Symphony so you can efficiently knock-out your workflows. . \n\n\n\nIn session #4\, Symphony Ninja Series: Display Holds in Symphony you will learn: \n\n\n\n\nUser holds\n\n\n\nTitle/Item holds\n\n\n\nNavigating the holds in display\n\n\n\n\nJoin us for Symphony Ninja Series: Display Holds in Symphony to learn more about your Symphony system. Delve into the dexterity of Symphony with Katie Lusk and fear no functions. \n\n\n\nAbout the Series \n\n\n\nThe Symphony Ninja series is a series of ten webinars led by Symphony Ninja Masters. These webinars teach tips for getting the most out of your Symphony system. Attend all ten sessions\, live or on-demand\, to earn your Symphony Ninja Certificate and the title of Symphony Ninja!
URL:https://www.sirsidynix.com/event/symphony-ninja-series-display-holds-in-symphony/
CATEGORIES:Webinar
END:VEVENT
END:VCALENDAR