BEGIN:VCALENDAR
VERSION:2.0
PRODID:-//SirsiDynix - ECPv6.14.2//NONSGML v1.0//EN
CALSCALE:GREGORIAN
METHOD:PUBLISH
X-WR-CALNAME:SirsiDynix
X-ORIGINAL-URL:https://www.sirsidynix.com
X-WR-CALDESC:Events for SirsiDynix
REFRESH-INTERVAL;VALUE=DURATION:PT1H
X-Robots-Tag:noindex
X-PUBLISHED-TTL:PT1H
BEGIN:VTIMEZONE
TZID:America/New_York
BEGIN:DAYLIGHT
TZOFFSETFROM:-0500
TZOFFSETTO:-0400
TZNAME:EDT
DTSTART:20170312T070000
END:DAYLIGHT
BEGIN:STANDARD
TZOFFSETFROM:-0400
TZOFFSETTO:-0500
TZNAME:EST
DTSTART:20171105T060000
END:STANDARD
END:VTIMEZONE
BEGIN:VEVENT
DTSTART;TZID=America/New_York:20170223T130000
DTEND;TZID=America/New_York:20170223T133000
DTSTAMP:20260420T184046
CREATED:20161126T000200Z
LAST-MODIFIED:20240725T230353Z
UID:10002116-1487854800-1487856600@www.sirsidynix.com
SUMMARY:Symphony Hero: Bibliographic Lists
DESCRIPTION:You protect a multitudinous collection. Find what you need and bring order to your items.\n\n\n\nBe super on your Symphony system! Join Superhero SirsiDynix trainer Kat Stephens for this free 15-minute webinar. Kat will teach you all the special powers you need to save the day at your library. \n\n\n\nThis second session of Symphony Hero will teach you to take full advantage of your Bibliographic Lists. Learn about \n\n\n\n\nPrinted arrangement in Print Item output\n\n\n\nOutput format\n\n\n\n\nSymphony is here to be your trusty sidekick. Join us for Bibliographic Lists to learn more about your Symphony system and how you can be a Hero at your library. \n\n\n\nAbout the Series \n\n\n\nThe Symphony Hero series is a series of ten webinar led by SirsiDynix Superhero trainers. In these webinars\, SD trainers teach tips for getting the most out of your Symphony system. Attend all ten sessions\, live or on-demand\, to earn your Symphony Hero Certificate and the title of Symphony Hero!
URL:https://www.sirsidynix.com/event/symphony-hero-bibliographic-lists/
CATEGORIES:Webinar
END:VEVENT
END:VCALENDAR