BEGIN:VCALENDAR
VERSION:2.0
PRODID:-//SirsiDynix - ECPv6.14.2//NONSGML v1.0//EN
CALSCALE:GREGORIAN
METHOD:PUBLISH
X-ORIGINAL-URL:https://www.sirsidynix.com
X-WR-CALDESC:Events for SirsiDynix
REFRESH-INTERVAL;VALUE=DURATION:PT1H
X-Robots-Tag:noindex
X-PUBLISHED-TTL:PT1H
BEGIN:VTIMEZONE
TZID:America/New_York
BEGIN:DAYLIGHT
TZOFFSETFROM:-0500
TZOFFSETTO:-0400
TZNAME:EDT
DTSTART:20230312T070000
END:DAYLIGHT
BEGIN:STANDARD
TZOFFSETFROM:-0400
TZOFFSETTO:-0500
TZNAME:EST
DTSTART:20231105T060000
END:STANDARD
BEGIN:DAYLIGHT
TZOFFSETFROM:-0500
TZOFFSETTO:-0400
TZNAME:EDT
DTSTART:20240310T070000
END:DAYLIGHT
BEGIN:STANDARD
TZOFFSETFROM:-0400
TZOFFSETTO:-0500
TZNAME:EST
DTSTART:20241103T060000
END:STANDARD
END:VTIMEZONE
BEGIN:VEVENT
DTSTART;TZID=America/New_York:20240125T120000
DTEND;TZID=America/New_York:20240125T123000
DTSTAMP:20260420T055131
CREATED:20240104T003700Z
LAST-MODIFIED:20240613T140016Z
UID:10001792-1706184000-1706185800@www.sirsidynix.com
SUMMARY:EOS.Web Advanced Product Focus - Cataloging Statistics Report
DESCRIPTION:Come and learn more about what your EOS.Web Cataloging Reports product can do for you! Join Senior EOS.Web Trainer\, Daniel Fitz-Enz for Cataloging Statistics Report. Daniel will feature EOS.Web and how it can benefit your library. \n\n\n\nThis webinar will specifically cover: \n\n\n\n\nHow to Use the Statistics Report\n\n\n\nDiving in to Statistic Report Details\n\n\n\nTips and Tricks to be Aware of\n\n\n\n\nAttend Cataloging Statistics Report and get your questions answered in this training webinar. Register today and come learn what’s going on with EOS.Web. \n\n\n\nAbout the Series \n\n\n\nThese webinars help to educate you on specific functions and capabilities of individual EOS.Web products. Presented by experienced Product Specialists\, these webinars will familiarize you with your EOS.Web software and keep you up to date on new features and developments. Learn more about what EOS.Web offers and how you can take advantage of each effective tool.
URL:https://www.sirsidynix.com/event/eos-web-advanced-product-focus-cataloging-statistics-report/
CATEGORIES:Webinar
ORGANIZER;CN="Daniel Fitz-Enz":MAILTO:Daniel.Fitz-Enz@sirsidynix.com
END:VEVENT
BEGIN:VEVENT
DTSTART;TZID=America/New_York:20240123T120000
DTEND;TZID=America/New_York:20240123T123000
DTSTAMP:20260420T055131
CREATED:20231108T004000Z
LAST-MODIFIED:20240613T140102Z
UID:10001793-1706011200-1706013000@www.sirsidynix.com
SUMMARY:EOS.Web Tips\, Tricks & Shortcuts: How to Edit Text on your OPAC
DESCRIPTION:Join Senior EOS.Web Trainer Daniel Fitz-Enz for this presentation on OPAC. Daniel will discuss all things OPAC including recent developments and featured topics. \n\n\n\nThis webinar will cover: \n\n\n\n\nGaining access to setup\n\n\n\nLocating the text and making the changes\n\n\n\nUsing Browser “Share” with your OPAC\n\n\n\n\nAttend How to Edit Text on your OPAC and get your questions answered in this training webinar. Register today and come learn what’s going on with OPAC. \n\n\n\nAbout the Series \n\n\n\nThese 30-minute tips and tricks webinars will help you get the most out of your EOS.Web tools. Learn new shortcuts and review favorites that you may have forgotten.
URL:https://www.sirsidynix.com/event/eos-web-tips-tricks-shortcuts-how-to-edit-text-on-your-opac/
CATEGORIES:Webinar
ORGANIZER;CN="Daniel Fitz-Enz":MAILTO:Daniel.Fitz-Enz@sirsidynix.com
END:VEVENT
BEGIN:VEVENT
DTSTART;TZID=America/New_York:20231130T120000
DTEND;TZID=America/New_York:20231130T123000
DTSTAMP:20260420T055131
CREATED:20230614T234900Z
LAST-MODIFIED:20240613T140325Z
UID:10001796-1701345600-1701347400@www.sirsidynix.com
SUMMARY:EOS.Web Advanced Product Focus - Circulation Usage – Comparative Analysis Report
DESCRIPTION:Come and learn more about what your EOS.Web Circulation Reports product can do for you! Join Senior EOS.Web Trainer\, Daniel Fitz-Enz for Circulation Usage – Comparative Analysis Report. Daniel will feature EOS.Web and how it can benefit your library. \n\n\n\nThis webinar will specifically cover: \n\n\n\n\nHow to Use the Comparative Analysis Report\n\n\n\nCirculation Statistics Report Details\n\n\n\nTips and Tricks to be Aware of\n\n\n\n\nAttend Circulation Usage – Comparative Analysis Report and get your questions answered in this training webinar. Register today and come learn what’s going on with EOS.Web. \n\n\n\nAbout the Series \n\n\n\nThese webinars help to educate you on specific functions and capabilities of individual EOS.Web products. Presented by experienced Product Specialists\, these webinars will familiarize you with your EOS.Web software and keep you up to date on new features and developments. Learn more about what EOS.Web offers and how you can take advantage of each effective tool.
URL:https://www.sirsidynix.com/event/eos-web-advanced-product-focus-circulation-usage-comparative-analysis-report/
CATEGORIES:Webinar
ORGANIZER;CN="Daniel Fitz-Enz":MAILTO:Daniel.Fitz-Enz@sirsidynix.com
END:VEVENT
BEGIN:VEVENT
DTSTART;TZID=America/New_York:20231128T000000
DTEND;TZID=America/New_York:20231128T123000
DTSTAMP:20260420T055131
CREATED:20230603T235200Z
LAST-MODIFIED:20240613T140446Z
UID:10001797-1701129600-1701174600@www.sirsidynix.com
SUMMARY:EOS.Web Tips\, Tricks & Shortcuts: Cataloging and OPAC Search Index Management
DESCRIPTION:Join Senior EOS.Web Trainer Daniel Fitz-Enz for this presentation on Cataloging and OPAC. Daniel will discuss all things Cataloging and OPAC including recent developments and featured topics. \n\n\n\nThis webinar will cover: \n\n\n\n\nReasons to Add\, Edit\, Hide\, or Remove a Search Index on your OPAC and Staff-side modules\n\n\n\nSteps to Add\, Edit\, Hide\, and Remove a Search Index\n\n\n\nSteps to Add Indexes to Advanced Search\n\n\n\n\nAttend Cataloging and OPAC Search Index Management and get your questions answered in this training webinar. Register today and come learn what’s going on with Cataloging and OPAC. \n\n\n\nAbout the Series \n\n\n\nThese 30-minute tips and tricks webinars will help you get the most out of your EOS.Web tools. Learn new shortcuts and review favorites that you may have forgotten.
URL:https://www.sirsidynix.com/event/eos-web-tips-tricks-shortcuts-cataloging-and-opac-search-index-management/
CATEGORIES:Webinar
ORGANIZER;CN="Daniel Fitz-Enz":MAILTO:Daniel.Fitz-Enz@sirsidynix.com
END:VEVENT
END:VCALENDAR