BEGIN:VCALENDAR
VERSION:2.0
PRODID:-//SirsiDynix - ECPv6.14.2//NONSGML v1.0//EN
CALSCALE:GREGORIAN
METHOD:PUBLISH
X-ORIGINAL-URL:https://www.sirsidynix.com
X-WR-CALDESC:Events for SirsiDynix
REFRESH-INTERVAL;VALUE=DURATION:PT1H
X-Robots-Tag:noindex
X-PUBLISHED-TTL:PT1H
BEGIN:VTIMEZONE
TZID:America/New_York
BEGIN:DAYLIGHT
TZOFFSETFROM:-0500
TZOFFSETTO:-0400
TZNAME:EDT
DTSTART:20160313T070000
END:DAYLIGHT
BEGIN:STANDARD
TZOFFSETFROM:-0400
TZOFFSETTO:-0500
TZNAME:EST
DTSTART:20161106T060000
END:STANDARD
END:VTIMEZONE
BEGIN:VEVENT
DTSTART;TZID=America/New_York:20160906T130000
DTEND;TZID=America/New_York:20160906T132000
DTSTAMP:20260424T105202
CREATED:20160729T161100Z
LAST-MODIFIED:20240729T161330Z
UID:10002169-1473166800-1473168000@www.sirsidynix.com
SUMMARY:Horizon Ninja Series: Email Search
DESCRIPTION:Lost in the sea of e-mail searching? Gain ground with the skills that guide and focus your searches.\n\n\n\nHone your skills to become a Horizon Ninja! Join Horizon Ninja Master Ken Bonney for this free 15-minute webinar. Master Bonney will instruct you in the agile ways of Horizon so you can efficiently knock-out your workflows. \n\n\n\nIn session #7\, Horizon Ninja Series: Email Search you will learn: \n\n\n\n\nHow to set up a borrower search by email\n\n\n\nHow to set up a search using various fields in the borrower record\n\n\n\nReorder borrower searches\n\n\n\n\nJoin us for Horizon Ninja Series: Email Search to learn more about your Horizon system. Delve into the dexterity of Horizon with Ken Bonney and fear no functions. . \n\n\n\nAbout the Series \n\n\n\nThe Horizon Ninja series is a series of ten webinars led by Horizon Ninja Master\, Ken Bonney. In these webinars\, Ken teaches tips for getting the most out of your Horizon system. Attend all ten sessions\, live or on-demand\, to earn your Horizon Ninja Certificate and the title of Horizon Ninja!
URL:https://www.sirsidynix.com/event/horizon-ninja-series-email-search/
CATEGORIES:Webinar
END:VEVENT
BEGIN:VEVENT
DTSTART;TZID=America/New_York:20160801T130000
DTEND;TZID=America/New_York:20160801T132000
DTSTAMP:20260424T105202
CREATED:20160729T160300Z
LAST-MODIFIED:20240729T160517Z
UID:10002166-1470056400-1470057600@www.sirsidynix.com
SUMMARY:Horizon Ninja Series: Cataloging Work Forms
DESCRIPTION:Is your cataloging a fierce and mighty foe? Conquer your cataloging with ease and agility.\n\n\n\nHone your skills to become a Horizon Ninja! Join Horizon Ninja Master Ken Bonney for this free 15-minute webinar. Master Bonney will instruct you in the agile ways of Horizon so you can efficiently knock-out your workflows. \n\n\n\nIn session #6\, Horizon Ninja Series: Cataloging Work Forms you will learn: \n\n\n\n\nMight does not mean muscle\, bring your skills to the cataloging table\n\n\n\nWays to drastically save time when doing original cataloging\n\n\n\nTips to reducing keystrokes in your processes\n\n\n\n\nJoin us for Horizon Ninja Series: Cataloging Work Forms to learn more about your Horizon system. Delve into the dexterity of Horizon with Ken Bonney and fear no functions. . \n\n\n\nAbout the Series \n\n\n\nThe Horizon Ninja series is a series of ten webinars led by Horizon Ninja Master\, Ken Bonney. In these webinars\, Ken teaches tips for getting the most out of your Horizon system. Attend all ten sessions\, live or on-demand\, to earn your Horizon Ninja Certificate and the title of Horizon Ninja!
URL:https://www.sirsidynix.com/event/horizon-ninja-series-cataloging-work-forms/
CATEGORIES:Webinar
END:VEVENT
BEGIN:VEVENT
DTSTART;TZID=America/New_York:20160621T130000
DTEND;TZID=America/New_York:20160621T132000
DTSTAMP:20260424T105202
CREATED:20160129T165800Z
LAST-MODIFIED:20240729T160015Z
UID:10002164-1466514000-1466515200@www.sirsidynix.com
SUMMARY:Horizon Ninja Series: Item Group Editor
DESCRIPTION:Skilled Ninjas know that there is strength in numbers. Learn to master the group editor and fortify your forces!\n\n\n\nHone your skills to become a Horizon Ninja! Join Horizon Ninja Master Ken Bonney for this free 15-minute webinar. Master Bonney will instruct you in the agile ways of Horizon so you can efficiently knock-out your workflows. \n\n\n\nIn session #5\, Horizon Ninja Series: Item Group Editor you will learn: \n\n\n\n\nLearn how to batch edit groups of items for temporary and permanent changes\n\n\n\nLearn how to achieve groups of material for future use\n\n\n\n\nJoin us for Horizon Ninja Series: Item Group Editor to learn more about your Horizon system. Delve into the dexterity of Horizon with Ken Bonney and fear no functions. . \n\n\n\nAbout the Series \n\n\n\nThe Horizon Ninja series is a series of ten webinars led by Horizon Ninja Master\, Ken Bonney. In these webinars\, Ken teaches tips for getting the most out of your Horizon system. Attend all ten sessions\, live or on-demand\, to earn your Horizon Ninja Certificate and the title of Horizon Ninja!
URL:https://www.sirsidynix.com/event/horizon-ninja-series-item-group-editor/
CATEGORIES:Webinar
END:VEVENT
BEGIN:VEVENT
DTSTART;TZID=America/New_York:20160517T130000
DTEND;TZID=America/New_York:20160517T132000
DTSTAMP:20260424T105202
CREATED:20160229T165100Z
LAST-MODIFIED:20240729T155257Z
UID:10002162-1463490000-1463491200@www.sirsidynix.com
SUMMARY:Horizon Ninja Series: PAC Flavors\, Restrictions
DESCRIPTION:Does your patron need resources and need them now? Don’t be daunted. Learn to restrict PAC with the adept\, swift skill.\n\n\n\nHone your skills to become a Horizon Ninja! Join Horizon Ninja Master Ken Bonney for this free 15-minute webinar. Master Bonney will instruct you in the agile ways of Horizon so you can efficiently knock-out your workflows. \n\n\n\nIn session #4\, Horizon Ninja Series: PAC Flavors\, Restrictions you will learn: \n\n\n\n\nHow to set up restrictions based on collection\n\n\n\nRestrict items by status and/or type\n\n\n\nReorder restrictions\n\n\n\n\nJoin us for Horizon Ninja Series: PAC Flavors\, Restrictions to learn more about your Horizon system. Delve into the dexterity of Horizon with Ken Bonney and fear no functions. . \n\n\n\nAbout the Series \n\n\n\nThe Horizon Ninja series is a series of ten webinars led by Horizon Ninja Master\, Ken Bonney. In these webinars\, Ken teaches tips for getting the most out of your Horizon system. Attend all ten sessions\, live or on-demand\, to earn your Horizon Ninja Certificate and the title of Horizon Ninja!
URL:https://www.sirsidynix.com/event/horizon-ninja-series-pac-flavors-restrictions/
CATEGORIES:Webinar
END:VEVENT
BEGIN:VEVENT
DTSTART;TZID=America/New_York:20160329T130000
DTEND;TZID=America/New_York:20160329T132000
DTSTAMP:20260424T105202
CREATED:20160129T164600Z
LAST-MODIFIED:20240729T154818Z
UID:10002160-1459256400-1459257600@www.sirsidynix.com
SUMMARY:Horizon Ninja Series: Serial Check-In
DESCRIPTION:Do the series just keep coming? Are unexpected issues encumbering your course?\n\n\n\nHone your skills to become a Horizon Ninja! Join Horizon Ninja Master Ken Bonney for this free 15-minute webinar. Master Bonney will instruct you in the agile ways of Horizon so you can efficiently knock-out your workflows. \n\n\n\nIn session 2\, Horizon Ninja Series: Serial Check-In you will learn: \n\n\n\n\nHow to check in items when unexpected issues arrive\n\n\n\nClaiming late issues\n\n\n\nRemove the item from trapping holds\n\n\n\n\nJoin us for Horizon Ninja Series: Serial Check-In to learn more about your Horizon system. Delve into the dexterity of Horizon with Ken Bonney and fear no functions. . \n\n\n\nAbout the Series \n\n\n\nThe Horizon Ninja series is a series of ten webinars led by Horizon Ninja Master\, Ken Bonney. In these webinars\, Ken teaches tips for getting the most out of your Horizon system. Attend all ten sessions\, live or on-demand\, to earn your Horizon Ninja Certificate and the title of Horizon Ninja!
URL:https://www.sirsidynix.com/event/horizon-ninja-series-serial-check-in/
CATEGORIES:Webinar
END:VEVENT
BEGIN:VEVENT
DTSTART;TZID=America/New_York:20160301T130000
DTEND;TZID=America/New_York:20160301T133000
DTSTAMP:20260424T105202
CREATED:20160201T164100Z
LAST-MODIFIED:20240729T154335Z
UID:10002158-1456837200-1456839000@www.sirsidynix.com
SUMMARY:Horizon Ninja Series: Damaged Books
DESCRIPTION:Damaged books got you down? Learn how to attack that stack!\n\n\n\nHone your skills to become a Horizon Ninja! Join Horizon Ninja Master Ken Bonney for this free 15-minute webinar. Master Bonney will instruct you in the agile ways of Horizon so you can efficiently knock-out your workflows. \n\n\n\nIn session 1\, Horizon Ninja Series: Damaged Books you will learn: \n\n\n\n\nFind the borrower who last checked out the book\n\n\n\nAttach a damage fee\n\n\n\nRemove the item from trapping holds\n\n\n\n\nJoin us for Horizon Ninja Series: Damaged Books to learn more about your Horizon system. Delve into the dexterity of Horizon with Ken Bonney and fear no functions. . \n\n\n\nAbout the Series \n\n\n\nThe Horizon Ninja series is a series of ten webinars led by Horizon Ninja Master\, Ken Bonney. In these webinars\, Ken teaches tips for getting the most out of your Horizon system. Attend all ten sessions\, live or on-demand\, to earn your Horizon Ninja Certificate and the title of Horizon Ninja!
URL:https://www.sirsidynix.com/event/horizon-ninja-series-damaged-books/
CATEGORIES:Webinar
END:VEVENT
END:VCALENDAR