BEGIN:VCALENDAR
VERSION:2.0
PRODID:-//SirsiDynix - ECPv6.14.2//NONSGML v1.0//EN
CALSCALE:GREGORIAN
METHOD:PUBLISH
X-ORIGINAL-URL:https://www.sirsidynix.com
X-WR-CALDESC:Events for SirsiDynix
REFRESH-INTERVAL;VALUE=DURATION:PT1H
X-Robots-Tag:noindex
X-PUBLISHED-TTL:PT1H
BEGIN:VTIMEZONE
TZID:America/New_York
BEGIN:DAYLIGHT
TZOFFSETFROM:-0500
TZOFFSETTO:-0400
TZNAME:EDT
DTSTART:20190310T070000
END:DAYLIGHT
BEGIN:STANDARD
TZOFFSETFROM:-0400
TZOFFSETTO:-0500
TZNAME:EST
DTSTART:20191103T060000
END:STANDARD
BEGIN:DAYLIGHT
TZOFFSETFROM:-0500
TZOFFSETTO:-0400
TZNAME:EDT
DTSTART:20200308T070000
END:DAYLIGHT
BEGIN:STANDARD
TZOFFSETFROM:-0400
TZOFFSETTO:-0500
TZNAME:EST
DTSTART:20201101T060000
END:STANDARD
BEGIN:DAYLIGHT
TZOFFSETFROM:-0500
TZOFFSETTO:-0400
TZNAME:EDT
DTSTART:20210314T070000
END:DAYLIGHT
BEGIN:STANDARD
TZOFFSETFROM:-0400
TZOFFSETTO:-0500
TZNAME:EST
DTSTART:20211107T060000
END:STANDARD
BEGIN:DAYLIGHT
TZOFFSETFROM:-0500
TZOFFSETTO:-0400
TZNAME:EDT
DTSTART:20220313T070000
END:DAYLIGHT
BEGIN:STANDARD
TZOFFSETFROM:-0400
TZOFFSETTO:-0500
TZNAME:EST
DTSTART:20221106T060000
END:STANDARD
BEGIN:DAYLIGHT
TZOFFSETFROM:-0500
TZOFFSETTO:-0400
TZNAME:EDT
DTSTART:20230312T070000
END:DAYLIGHT
BEGIN:STANDARD
TZOFFSETFROM:-0400
TZOFFSETTO:-0500
TZNAME:EST
DTSTART:20231105T060000
END:STANDARD
BEGIN:DAYLIGHT
TZOFFSETFROM:-0500
TZOFFSETTO:-0400
TZNAME:EDT
DTSTART:20240310T070000
END:DAYLIGHT
BEGIN:STANDARD
TZOFFSETFROM:-0400
TZOFFSETTO:-0500
TZNAME:EST
DTSTART:20241103T060000
END:STANDARD
BEGIN:DAYLIGHT
TZOFFSETFROM:-0500
TZOFFSETTO:-0400
TZNAME:EDT
DTSTART:20250309T070000
END:DAYLIGHT
BEGIN:STANDARD
TZOFFSETFROM:-0400
TZOFFSETTO:-0500
TZNAME:EST
DTSTART:20251102T060000
END:STANDARD
BEGIN:DAYLIGHT
TZOFFSETFROM:-0500
TZOFFSETTO:-0400
TZNAME:EDT
DTSTART:20260308T070000
END:DAYLIGHT
BEGIN:STANDARD
TZOFFSETFROM:-0400
TZOFFSETTO:-0500
TZNAME:EST
DTSTART:20261101T060000
END:STANDARD
END:VTIMEZONE
BEGIN:VTIMEZONE
TZID:Australia/Sydney
BEGIN:STANDARD
TZOFFSETFROM:+1100
TZOFFSETTO:+1000
TZNAME:AEST
DTSTART:20250405T160000
END:STANDARD
BEGIN:DAYLIGHT
TZOFFSETFROM:+1000
TZOFFSETTO:+1100
TZNAME:AEDT
DTSTART:20251004T160000
END:DAYLIGHT
END:VTIMEZONE
BEGIN:VEVENT
DTSTART;TZID=America/New_York:20260122T130000
DTEND;TZID=America/New_York:20260122T133000
DTSTAMP:20260422T062621
CREATED:20251210T184618Z
LAST-MODIFIED:20260211T173508Z
UID:10003019-1769086800-1769088600@www.sirsidynix.com
SUMMARY:BC Accelerate: A Year in Review
DESCRIPTION:
URL:https://www.sirsidynix.com/event/bluecloud-accelerate-2025-review/
CATEGORIES:Webinar
ATTACH;FMTTYPE=image/jpeg:https://www.sirsidynix.com/wp-content/uploads/2024/06/BC-Accelerate_email-banner-e1721225461718.jpg
END:VEVENT
BEGIN:VEVENT
DTSTART;TZID=America/New_York:20250924T113000
DTEND;TZID=America/New_York:20250924T121500
DTSTAMP:20260422T062621
CREATED:20250916T191304Z
LAST-MODIFIED:20260211T173509Z
UID:10002997-1758713400-1758716100@www.sirsidynix.com
SUMMARY:(EMEA + Americas) Charting the Course: Introducing SirsiDynix's New Product Roadmap
DESCRIPTION:Learn more about our exciting\, new approach to product development and see how it will advance BLUEcloud products and make a difference in your library.
URL:https://www.sirsidynix.com/event/emea-americas-charting-the-course-introducing-sirsidynixs-new-product-roadmap/
CATEGORIES:Webinar
ATTACH;FMTTYPE=image/png:https://www.sirsidynix.com/wp-content/uploads/2025/09/Roadmap-Overview-Header_small.png
END:VEVENT
BEGIN:VEVENT
DTSTART;TZID=Australia/Sydney:20250924T090000
DTEND;TZID=Australia/Sydney:20250924T094500
DTSTAMP:20260422T062621
CREATED:20250916T191415Z
LAST-MODIFIED:20260211T173509Z
UID:10002998-1758704400-1758707100@www.sirsidynix.com
SUMMARY:(APAC) Charting the Course: Introducing SirsiDynix's New Product Roadmap
DESCRIPTION:Learn more about our exciting\, new approach to product development and see how it will advance BLUEcloud products and make a difference in your library.
URL:https://www.sirsidynix.com/event/apac-charting-the-course-introducing-sirsidynixs-new-product-roadmap/
CATEGORIES:Webinar
ATTACH;FMTTYPE=image/png:https://www.sirsidynix.com/wp-content/uploads/2025/09/Roadmap-Overview-Header_small.png
END:VEVENT
BEGIN:VEVENT
DTSTART;TZID=America/New_York:20240522T130000
DTEND;TZID=America/New_York:20240522T132000
DTSTAMP:20260422T062621
CREATED:20231212T160800Z
LAST-MODIFIED:20240613T223407Z
UID:10001839-1716382800-1716384000@www.sirsidynix.com
SUMMARY:BLUEcloud Mobile2: May Bi-Weekly Virtual Pilot Program Webinar
DESCRIPTION:Familiar with the BLUEcloud Mobile2 development journey and ready to delve even deeper? New to the Virtual Pilot series and eager to see what all the hype is about? \n\n\n\nWhether you frequently attend BLUEcloud Mobile2 Virtual Pilot webinars or you’re looking to dive in for the first time\, we invite you to join us for the next two installments in the series—and witness firsthand the evolution of this new\, next-generation mobile application.  \n\n\n\nIn addition to offering meaningful\, up-to-the-minute insights on the development process\, this month’s BLUEcloud Mobile2 webinars will: \n\n\n\n\nWalk through the ins and outs of our recently announced BLUEcloud Mobile2 discount offer\, including when it takes effect and how it differs from the outage credit. (5/08/2024)\n\n\n\nSurvey the 24.04.00 release\, all live features and functionality\, and the application as a whole. (5/22/2024)\n\n\n\n\nThe future of mobile discovery is now; let’s explore it together. Register once for both May Virtual Pilot sessions today—and keep an eye out for our June Virtual Pilot invitation later this month. \n\n\n\nPlease note: once you click “Register\,” you will be automatically registered for both May BLUEcloud Mobile2 webinars. \n\n\n\nMissed earlier BLUEcloud Mobile2 Virtual Pilot webinars and want to catch up? Find all available OnDemand recordings here. \n\n\n\nAbout the Series \n\n\n\nHeld bi-weekly and available to all customers\, these 20-30 minute sessions will provide you with meaningful\, up-to-the-minute insights on the development process of BLUEcloud Mobile2 from now until launch.
URL:https://www.sirsidynix.com/event/bluecloud-mobile2-may-bi-weekly-virtual-pilot-program-webinar/
CATEGORIES:Webinar
END:VEVENT
BEGIN:VEVENT
DTSTART;TZID=America/New_York:20230803T130000
DTEND;TZID=America/New_York:20230803T133000
DTSTAMP:20260422T062621
CREATED:20241106T223801Z
LAST-MODIFIED:20241106T223802Z
UID:10002839-1691067600-1691069400@www.sirsidynix.com
SUMMARY:Product Overview: Diving into Symphony Data Control
DESCRIPTION:Harness the power of Symphony’s API selection tools with Data Control. This intuitive\, browser-based graphical interface allows users of all experience levels—from power user to read-only reporter—to seamlessly construct queries\, batch-modify records\, edit individual record fields\, and more. \n\n\n\nTo learn more about this valuable resource and how to begin leveraging it\, join Director of Pre-Sales Solutions Melissa Kulmer for this 30-minute webinar. \n\n\n\nDuring our time together\, Melissa will: \n\n\n\n\nProvide a brief overview of Data Control.\n\n\n\nDiscuss the differences between Data Control\, BLUEcloud Analytics\, and Symphony reports.\n\n\n\nHighlight how various roles can use (and benefit from) Data Control processes.\n\n\n\n\nRegister today—and prepare to discover new ways to take control of your library’s data. \n\n\n\nDoes your library use Data Control? Have a success story you’d like to share with us? Email your Library Relations Manager or contact us at marketing@sirsidynix.com for a chance to be featured in an upcoming webinar.
URL:https://www.sirsidynix.com/event/product-overview-diving-into-symphony-data-control/
CATEGORIES:Webinar
END:VEVENT
BEGIN:VEVENT
DTSTART;TZID=America/New_York:20210715T130000
DTEND;TZID=America/New_York:20210715T132000
DTSTAMP:20260422T062621
CREATED:20210519T021400Z
LAST-MODIFIED:20240613T142912Z
UID:10001725-1626354000-1626355200@www.sirsidynix.com
SUMMARY:Enterprise Genius Series - Adding and Managing Logos and Images in Enterprise
DESCRIPTION:Grab your pens and pencils for this year’s training and certification series for Enterprise! \n\n\n\nJoin Director of Pre-Sales Solutions Melissa Kulmer for episode 3 of the 4 part Genius series. Gain new knowledge each month to solve all the equations and formulas about Enterprise. Complete all 4 parts to become a Genius series graduate! \n\n\n\nThis 15 minute webinar will focus on: \n\n\n\n\nImage use in Enterprise and managing images\n\n\n\nCustomizing your Enterprise banner\n\n\n\nCommon tools and resources\n\n\n\n\nAbout the Series \n\n\n\nThe Enterprise Genius Series is a 4-part mini series. Each 15 minute episode will spotlight functionality that will help you to become an Enterprise master. Complete all 4 parts to become a Genius series graduate!
URL:https://www.sirsidynix.com/event/enterprise-genius-series-adding-and-managing-logos-and-images-in-enterprise/
CATEGORIES:Webinar
END:VEVENT
BEGIN:VEVENT
DTSTART;TZID=America/New_York:20191203T130000
DTEND;TZID=America/New_York:20191203T133000
DTSTAMP:20260422T062621
CREATED:20190521T022400Z
LAST-MODIFIED:20240613T143750Z
UID:10001750-1575378000-1575379800@www.sirsidynix.com
SUMMARY:BLUEcloud Cataloging Product Overview
DESCRIPTION:Join Director of Pre-Sales Solutions Melissa Kulmer for this free overview presentation of BLUEcloud Cataloging. Melissa will walk you through the basic ins and outs of BLUEcloud Cataloging as well as show off a few cool features. This webinar will cover \n\n\n\n\nCopy cataloging shortcuts with Merge & Replace\n\n\n\nSearching made easy with BLUEcloud Search\n\n\n\nQuick item creation with item templates\n\n\n\n\nGet a feel for BLUEcloud Cataloging and get your questions answered in this 30 minute webinar. Register today and come learn what’s going on with BLUEcloud Cataloging. \n\n\n\nAbout the Series \n\n\n\nProduct webinars spotlight the functions and capabilities of individual SirsiDynix products. Presented by experienced Product Specialists\, these webinars will familiarize you with the full range of SirsiDynix software. Learn more about what SirsiDynix offers and how you can take advantage of each effective tool.
URL:https://www.sirsidynix.com/event/bluecloud-cataloging-product-overview-2/
CATEGORIES:Webinar
END:VEVENT
BEGIN:VEVENT
DTSTART;TZID=America/New_York:20190501T130000
DTEND;TZID=America/New_York:20190501T133000
DTSTAMP:20260422T062621
CREATED:20190307T153600Z
LAST-MODIFIED:20240613T143839Z
UID:10001697-1556715600-1556717400@www.sirsidynix.com
SUMMARY:eResource Central Product Overview
DESCRIPTION:Join Director of Pre-Sales Solutions Melissa Kulmer for this free overview presentation of eResource Central. Melissa will walk you through the basic ins and outs of eResource Central as well as show off a few cool features. This webinar will cover \n\n\n\n\nExplanation of eRC\n\n\n\nBefore and after experience for Library staff\n\n\n\nBefore and after experience for Patrons\n\n\n\n\nGet a feel for eResource Central and get your questions answered in this 30 minute webinar. Register today and come learn what’s going on with eResource Central. \n\n\n\nAbout the Series \n\n\n\nProduct webinars spotlight the functions and capabilities of individual SirsiDynix products. Presented by experienced Product Specialists\, these webinars will familiarize you with the full range of SirsiDynix software. Learn more about what SirsiDynix offers and how you can take advantage of each effective tool.
URL:https://www.sirsidynix.com/event/eresource-central-product-overview/
CATEGORIES:Webinar
END:VEVENT
END:VCALENDAR